BEGIN:VCALENDAR
VERSION:2.0
PRODID:-//Raymond H. Fogler Library - ECPv6.15.17.1//NONSGML v1.0//EN
CALSCALE:GREGORIAN
METHOD:PUBLISH
X-ORIGINAL-URL:https://library.umaine.edu
X-WR-CALDESC:Events for Raymond H. Fogler Library
REFRESH-INTERVAL;VALUE=DURATION:PT1H
X-Robots-Tag:noindex
X-PUBLISHED-TTL:PT1H
BEGIN:VTIMEZONE
TZID:America/New_York
BEGIN:DAYLIGHT
TZOFFSETFROM:-0500
TZOFFSETTO:-0400
TZNAME:EDT
DTSTART:20160313T070000
END:DAYLIGHT
BEGIN:STANDARD
TZOFFSETFROM:-0400
TZOFFSETTO:-0500
TZNAME:EST
DTSTART:20161106T060000
END:STANDARD
BEGIN:DAYLIGHT
TZOFFSETFROM:-0500
TZOFFSETTO:-0400
TZNAME:EDT
DTSTART:20170312T070000
END:DAYLIGHT
BEGIN:STANDARD
TZOFFSETFROM:-0400
TZOFFSETTO:-0500
TZNAME:EST
DTSTART:20171105T060000
END:STANDARD
BEGIN:DAYLIGHT
TZOFFSETFROM:-0500
TZOFFSETTO:-0400
TZNAME:EDT
DTSTART:20180311T070000
END:DAYLIGHT
BEGIN:STANDARD
TZOFFSETFROM:-0400
TZOFFSETTO:-0500
TZNAME:EST
DTSTART:20181104T060000
END:STANDARD
END:VTIMEZONE
BEGIN:VEVENT
DTSTART;TZID=America/New_York:20170327T180000
DTEND;TZID=America/New_York:20170327T200000
DTSTAMP:20260420T213703
CREATED:20170222T160609Z
LAST-MODIFIED:20170222T160609Z
UID:10000525-1490637600-1490644800@library.umaine.edu
SUMMARY:Make Music with Your Computer Workshop
DESCRIPTION:Have you ever wanted to make music with a computer? Or learn more about programming in a fun way? This workshop will introduce you to the process of making music with a computer using Supercollider\, an open source music programming language used by composers\, audio researchers and programmers around the world. \nBy the end of this workshop\, you will have a basic understanding of some programming concepts as they apply to music (variables\, loops\, etc)\, and you’ll gain a new appreciation of making music through computers! \nNo experience is needed in either music or programming\, but an interest in either one or both is great! Laptops can be provided if needed. \nAbout the Presenter: Rod O’Connor is a current graduate student in the MSIS program\, and has a BA in experimental computer music from Wesleyan University.
URL:https://library.umaine.edu/event/make-music-computer-workshop/
LOCATION:Fogler Library Classroom 1\, Orono\, ME\, United States
GEO:44.8831125;-68.6719411
END:VEVENT
END:VCALENDAR