BEGIN:VCALENDAR
VERSION:2.0
PRODID:-//Raymond H. Fogler Library - ECPv6.15.17.1//NONSGML v1.0//EN
CALSCALE:GREGORIAN
METHOD:PUBLISH
X-ORIGINAL-URL:https://library.umaine.edu
X-WR-CALDESC:Events for Raymond H. Fogler Library
REFRESH-INTERVAL;VALUE=DURATION:PT1H
X-Robots-Tag:noindex
X-PUBLISHED-TTL:PT1H
BEGIN:VTIMEZONE
TZID:America/New_York
BEGIN:DAYLIGHT
TZOFFSETFROM:-0500
TZOFFSETTO:-0400
TZNAME:EDT
DTSTART:20170312T070000
END:DAYLIGHT
BEGIN:STANDARD
TZOFFSETFROM:-0400
TZOFFSETTO:-0500
TZNAME:EST
DTSTART:20171105T060000
END:STANDARD
BEGIN:DAYLIGHT
TZOFFSETFROM:-0500
TZOFFSETTO:-0400
TZNAME:EDT
DTSTART:20180311T070000
END:DAYLIGHT
BEGIN:STANDARD
TZOFFSETFROM:-0400
TZOFFSETTO:-0500
TZNAME:EST
DTSTART:20181104T060000
END:STANDARD
BEGIN:DAYLIGHT
TZOFFSETFROM:-0500
TZOFFSETTO:-0400
TZNAME:EDT
DTSTART:20190310T070000
END:DAYLIGHT
BEGIN:STANDARD
TZOFFSETFROM:-0400
TZOFFSETTO:-0500
TZNAME:EST
DTSTART:20191103T060000
END:STANDARD
END:VTIMEZONE
BEGIN:VEVENT
DTSTART;TZID=America/New_York:20181003T190000
DTEND;TZID=America/New_York:20181003T200000
DTSTAMP:20260421T013811
CREATED:20180816T182117Z
LAST-MODIFIED:20180816T182117Z
UID:10000586-1538593200-1538596800@library.umaine.edu
SUMMARY:Student Book Club: Mystery/Thriller Fiction
DESCRIPTION:Do you enjoy Gone Girl\, the Sherlock Holmes stories\, Bone Gap\, We Were Liars\, The Da Vinci Code\, or other mystery/thriller fiction?  Come to the Fogler Library Student Book Club\, where we’ll be talking about mysteries and thrillers and sharing recommendations for books we love! \nYou don’t need to have read any specific book to join the conversation; you just need to be interested in mystery and/or thriller stories.
URL:https://library.umaine.edu/event/student-book-club-mystery-thriller-fiction/
LOCATION:Fogler Library Classroom 1\, Orono\, ME\, United States
GEO:44.8831125;-68.6719411
END:VEVENT
END:VCALENDAR