BEGIN:VCALENDAR
VERSION:2.0
PRODID:-//Raymond H. Fogler Library - ECPv6.15.17.1//NONSGML v1.0//EN
CALSCALE:GREGORIAN
METHOD:PUBLISH
X-ORIGINAL-URL:https://library.umaine.edu
X-WR-CALDESC:Events for Raymond H. Fogler Library
REFRESH-INTERVAL;VALUE=DURATION:PT1H
X-Robots-Tag:noindex
X-PUBLISHED-TTL:PT1H
BEGIN:VTIMEZONE
TZID:America/New_York
BEGIN:DAYLIGHT
TZOFFSETFROM:-0500
TZOFFSETTO:-0400
TZNAME:EDT
DTSTART:20170312T070000
END:DAYLIGHT
BEGIN:STANDARD
TZOFFSETFROM:-0400
TZOFFSETTO:-0500
TZNAME:EST
DTSTART:20171105T060000
END:STANDARD
BEGIN:DAYLIGHT
TZOFFSETFROM:-0500
TZOFFSETTO:-0400
TZNAME:EDT
DTSTART:20180311T070000
END:DAYLIGHT
BEGIN:STANDARD
TZOFFSETFROM:-0400
TZOFFSETTO:-0500
TZNAME:EST
DTSTART:20181104T060000
END:STANDARD
BEGIN:DAYLIGHT
TZOFFSETFROM:-0500
TZOFFSETTO:-0400
TZNAME:EDT
DTSTART:20190310T070000
END:DAYLIGHT
BEGIN:STANDARD
TZOFFSETFROM:-0400
TZOFFSETTO:-0500
TZNAME:EST
DTSTART:20191103T060000
END:STANDARD
END:VTIMEZONE
BEGIN:VEVENT
DTSTART;TZID=America/New_York:20181017T190000
DTEND;TZID=America/New_York:20181017T200000
DTSTAMP:20260421T121448
CREATED:20180816T182301Z
LAST-MODIFIED:20180816T182301Z
UID:10000585-1539802800-1539806400@library.umaine.edu
SUMMARY:Student Book Club: Horror Fiction
DESCRIPTION:Can’t get enough of Feed\, World War Z\, Monstress\, The Haunting of Hill House\, Carrie\, Frankenstein\, and other chilling tales?  Come to the Fogler Library Student Book Club\, where we’ll be talking about horror fiction and sharing recommendations for horror books we love! \nYou don’t need to have read any specific book to join the conversation; you just need to be interested in horror stories.
URL:https://library.umaine.edu/event/student-book-club-horror-fiction/
LOCATION:Fogler Library Classroom 1\, Orono\, ME\, United States
GEO:44.8831125;-68.6719411
END:VEVENT
END:VCALENDAR