BEGIN:VCALENDAR
VERSION:2.0
PRODID:-//Raymond H. Fogler Library - ECPv6.15.17.1//NONSGML v1.0//EN
CALSCALE:GREGORIAN
METHOD:PUBLISH
X-WR-CALNAME:Raymond H. Fogler Library
X-ORIGINAL-URL:https://library.umaine.edu
X-WR-CALDESC:Events for Raymond H. Fogler Library
REFRESH-INTERVAL;VALUE=DURATION:PT1H
X-Robots-Tag:noindex
X-PUBLISHED-TTL:PT1H
BEGIN:VTIMEZONE
TZID:America/New_York
BEGIN:DAYLIGHT
TZOFFSETFROM:-0500
TZOFFSETTO:-0400
TZNAME:EDT
DTSTART:20240310T070000
END:DAYLIGHT
BEGIN:STANDARD
TZOFFSETFROM:-0400
TZOFFSETTO:-0500
TZNAME:EST
DTSTART:20241103T060000
END:STANDARD
BEGIN:DAYLIGHT
TZOFFSETFROM:-0500
TZOFFSETTO:-0400
TZNAME:EDT
DTSTART:20250309T070000
END:DAYLIGHT
BEGIN:STANDARD
TZOFFSETFROM:-0400
TZOFFSETTO:-0500
TZNAME:EST
DTSTART:20251102T060000
END:STANDARD
BEGIN:DAYLIGHT
TZOFFSETFROM:-0500
TZOFFSETTO:-0400
TZNAME:EDT
DTSTART:20260308T070000
END:DAYLIGHT
BEGIN:STANDARD
TZOFFSETFROM:-0400
TZOFFSETTO:-0500
TZNAME:EST
DTSTART:20261101T060000
END:STANDARD
END:VTIMEZONE
BEGIN:VEVENT
DTSTART;TZID=America/New_York:20250909T160000
DTEND;TZID=America/New_York:20250909T170000
DTSTAMP:20260420T103145
CREATED:20250822T163449Z
LAST-MODIFIED:20250827T134155Z
UID:10001065-1757433600-1757437200@library.umaine.edu
SUMMARY:Worldbuilding Workshop
DESCRIPTION:Build better worlds with Fogler Library’s Worldbuilding Workshop. \nLearn research methods and library resources to make your settings feel real. We will contextualize this in a brief survey of worldbuilding in fiction. \nIdeal for: creative writers\, gamemasters\, and anyone interested in worldbuilding. \nFor more information\, please visit our Workshops Guide.
URL:https://library.umaine.edu/event/worldbuilding-workshop/
LOCATION:Fogler Library Classroom 1\, Orono\, ME\, United States
CATEGORIES:Workshop
ATTACH;FMTTYPE=image/png:https://library.umaine.edu/wp-content/uploads/sites/673/2025/08/Worldbuilding-Workshop-760-x-380-px-1.png
GEO:44.8831125;-68.6719411
END:VEVENT
END:VCALENDAR