BEGIN:VCALENDAR
VERSION:2.0
PRODID:-//Raymond H. Fogler Library - ECPv6.15.17.1//NONSGML v1.0//EN
CALSCALE:GREGORIAN
METHOD:PUBLISH
X-ORIGINAL-URL:https://library.umaine.edu
X-WR-CALDESC:Events for Raymond H. Fogler Library
REFRESH-INTERVAL;VALUE=DURATION:PT1H
X-Robots-Tag:noindex
X-PUBLISHED-TTL:PT1H
BEGIN:VTIMEZONE
TZID:America/New_York
BEGIN:DAYLIGHT
TZOFFSETFROM:-0500
TZOFFSETTO:-0400
TZNAME:EDT
DTSTART:20240310T070000
END:DAYLIGHT
BEGIN:STANDARD
TZOFFSETFROM:-0400
TZOFFSETTO:-0500
TZNAME:EST
DTSTART:20241103T060000
END:STANDARD
BEGIN:DAYLIGHT
TZOFFSETFROM:-0500
TZOFFSETTO:-0400
TZNAME:EDT
DTSTART:20250309T070000
END:DAYLIGHT
BEGIN:STANDARD
TZOFFSETFROM:-0400
TZOFFSETTO:-0500
TZNAME:EST
DTSTART:20251102T060000
END:STANDARD
BEGIN:DAYLIGHT
TZOFFSETFROM:-0500
TZOFFSETTO:-0400
TZNAME:EDT
DTSTART:20260308T070000
END:DAYLIGHT
BEGIN:STANDARD
TZOFFSETFROM:-0400
TZOFFSETTO:-0500
TZNAME:EST
DTSTART:20261101T060000
END:STANDARD
END:VTIMEZONE
BEGIN:VEVENT
DTSTART;TZID=America/New_York:20251029T150000
DTEND;TZID=America/New_York:20251029T153000
DTSTAMP:20260421T152531
CREATED:20251022T160728Z
LAST-MODIFIED:20251022T160728Z
UID:10001079-1761750000-1761751800@library.umaine.edu
SUMMARY:Tour the Library
DESCRIPTION:Meet with a librarian for a tour of Fogler Library. You’ll discover what the space has to offer and get to know some of our staff along the way. Tours will meet outside Library Classroom 2.
URL:https://library.umaine.edu/event/tour-the-library-2/
LOCATION:Fogler Library Classroom 2\, Orono\, ME\, United States
END:VEVENT
END:VCALENDAR