BEGIN:VCALENDAR
VERSION:2.0
PRODID:-//Raymond H. Fogler Library - ECPv6.15.17.1//NONSGML v1.0//EN
CALSCALE:GREGORIAN
METHOD:PUBLISH
X-ORIGINAL-URL:https://library.umaine.edu
X-WR-CALDESC:Events for Raymond H. Fogler Library
REFRESH-INTERVAL;VALUE=DURATION:PT1H
X-Robots-Tag:noindex
X-PUBLISHED-TTL:PT1H
BEGIN:VTIMEZONE
TZID:America/New_York
BEGIN:DAYLIGHT
TZOFFSETFROM:-0500
TZOFFSETTO:-0400
TZNAME:EDT
DTSTART:20250309T070000
END:DAYLIGHT
BEGIN:STANDARD
TZOFFSETFROM:-0400
TZOFFSETTO:-0500
TZNAME:EST
DTSTART:20251102T060000
END:STANDARD
BEGIN:DAYLIGHT
TZOFFSETFROM:-0500
TZOFFSETTO:-0400
TZNAME:EDT
DTSTART:20260308T070000
END:DAYLIGHT
BEGIN:STANDARD
TZOFFSETFROM:-0400
TZOFFSETTO:-0500
TZNAME:EST
DTSTART:20261101T060000
END:STANDARD
BEGIN:DAYLIGHT
TZOFFSETFROM:-0500
TZOFFSETTO:-0400
TZNAME:EDT
DTSTART:20270314T070000
END:DAYLIGHT
BEGIN:STANDARD
TZOFFSETFROM:-0400
TZOFFSETTO:-0500
TZNAME:EST
DTSTART:20271107T060000
END:STANDARD
END:VTIMEZONE
BEGIN:VEVENT
DTSTART;TZID=America/New_York:20260203T160000
DTEND;TZID=America/New_York:20260203T170000
DTSTAMP:20260423T215655
CREATED:20260121T164518Z
LAST-MODIFIED:20260121T164518Z
UID:10001084-1770134400-1770138000@library.umaine.edu
SUMMARY:Exploring AI Tools at the Fogler Library
DESCRIPTION:Join Fogler Librarians for an introduction to generative AI and its use.  We’ll step back and take a critical look at generative AI\, discuss available tools\, and examine the benefits and pitfalls of using them. Hands on experience will be included. \nTo register\, click here.
URL:https://library.umaine.edu/event/exploring-ai-tools-at-the-fogler-library/
LOCATION:Fogler Library Classroom 1\, Orono\, ME\, United States
ATTACH;FMTTYPE=image/png:https://library.umaine.edu/wp-content/uploads/sites/673/2026/01/Calendars-small-landscape-png.png
GEO:44.8831125;-68.6719411
END:VEVENT
END:VCALENDAR