BEGIN:VCALENDAR
VERSION:2.0
PRODID:-//Raymond H. Fogler Library - ECPv6.15.17.1//NONSGML v1.0//EN
CALSCALE:GREGORIAN
METHOD:PUBLISH
X-ORIGINAL-URL:https://library.umaine.edu
X-WR-CALDESC:Events for Raymond H. Fogler Library
REFRESH-INTERVAL;VALUE=DURATION:PT1H
X-Robots-Tag:noindex
X-PUBLISHED-TTL:PT1H
BEGIN:VTIMEZONE
TZID:America/New_York
BEGIN:DAYLIGHT
TZOFFSETFROM:-0500
TZOFFSETTO:-0400
TZNAME:EDT
DTSTART:20250309T070000
END:DAYLIGHT
BEGIN:STANDARD
TZOFFSETFROM:-0400
TZOFFSETTO:-0500
TZNAME:EST
DTSTART:20251102T060000
END:STANDARD
BEGIN:DAYLIGHT
TZOFFSETFROM:-0500
TZOFFSETTO:-0400
TZNAME:EDT
DTSTART:20260308T070000
END:DAYLIGHT
BEGIN:STANDARD
TZOFFSETFROM:-0400
TZOFFSETTO:-0500
TZNAME:EST
DTSTART:20261101T060000
END:STANDARD
BEGIN:DAYLIGHT
TZOFFSETFROM:-0500
TZOFFSETTO:-0400
TZNAME:EDT
DTSTART:20270314T070000
END:DAYLIGHT
BEGIN:STANDARD
TZOFFSETFROM:-0400
TZOFFSETTO:-0500
TZNAME:EST
DTSTART:20271107T060000
END:STANDARD
END:VTIMEZONE
BEGIN:VEVENT
DTSTART;TZID=America/New_York:20260325T150000
DTEND;TZID=America/New_York:20260325T160000
DTSTAMP:20260421T151033
CREATED:20260320T153243Z
LAST-MODIFIED:20260320T153320Z
UID:10001095-1774450800-1774454400@library.umaine.edu
SUMMARY:Tea with the Dean and Open Educational Resources (OER) Showcase
DESCRIPTION:On Wednesday\, March 25\, from 3 p.m.\, join UMaine Dean of Libraries Daisy D. Singh for opening remarks\, followed by a presentation from Tom Hardy\, Open Educational Resources Librarian\, and Casey Koons\, Open Scholarship Librarian. \nThis showcase will provide an overview of Open Educational Resources (OER)\, including what they are\, how they are created\, and how they are used in teaching and learning. The presenters will discuss the benefits of OER for students and instructors and highlight current open education and open publishing initiatives at the University of Maine that support affordability\, accessibility\, and innovative scholarship across campus. \nAlso available via Zoom. \n  \n 
URL:https://library.umaine.edu/event/tea-with-the-dean-and-open-educational-resources-oer-showcase/
LOCATION:The Salon\, Fogler Library\, or Zoom
CATEGORIES:Library Event
ATTACH;FMTTYPE=image/jpeg:https://library.umaine.edu/wp-content/uploads/sites/673/2026/03/Tea-with-the-Dean-scaled.jpg
END:VEVENT
END:VCALENDAR