BEGIN:VCALENDAR
VERSION:2.0
PRODID:-//Raymond H. Fogler Library - ECPv6.15.17.1//NONSGML v1.0//EN
CALSCALE:GREGORIAN
METHOD:PUBLISH
X-WR-CALNAME:Raymond H. Fogler Library
X-ORIGINAL-URL:https://library.umaine.edu
X-WR-CALDESC:Events for Raymond H. Fogler Library
REFRESH-INTERVAL;VALUE=DURATION:PT1H
X-Robots-Tag:noindex
X-PUBLISHED-TTL:PT1H
BEGIN:VTIMEZONE
TZID:America/New_York
BEGIN:DAYLIGHT
TZOFFSETFROM:-0500
TZOFFSETTO:-0400
TZNAME:EDT
DTSTART:20160313T070000
END:DAYLIGHT
BEGIN:STANDARD
TZOFFSETFROM:-0400
TZOFFSETTO:-0500
TZNAME:EST
DTSTART:20161106T060000
END:STANDARD
BEGIN:DAYLIGHT
TZOFFSETFROM:-0500
TZOFFSETTO:-0400
TZNAME:EDT
DTSTART:20170312T070000
END:DAYLIGHT
BEGIN:STANDARD
TZOFFSETFROM:-0400
TZOFFSETTO:-0500
TZNAME:EST
DTSTART:20171105T060000
END:STANDARD
BEGIN:DAYLIGHT
TZOFFSETFROM:-0500
TZOFFSETTO:-0400
TZNAME:EDT
DTSTART:20180311T070000
END:DAYLIGHT
BEGIN:STANDARD
TZOFFSETFROM:-0400
TZOFFSETTO:-0500
TZNAME:EST
DTSTART:20181104T060000
END:STANDARD
END:VTIMEZONE
BEGIN:VEVENT
DTSTART;TZID=America/New_York:20171003T160000
DTEND;TZID=America/New_York:20171003T171500
DTSTAMP:20260420T234109
CREATED:20170927T151834Z
LAST-MODIFIED:20170927T151834Z
UID:10000350-1507046400-1507050900@library.umaine.edu
SUMMARY:The “Long” 18th Century: Making Connections within Gale Primary Sources
DESCRIPTION:DISCOVERING THE “LONG” 18th-CENTURY:\nMaking Connections within Gale Primary Sources\n\nAs part of the 2017 Digital Humanities Week\, this workshop will provide an overview of critical primary sources available to scholars at the University of Maine seeking to enhance their digital humanities research experience. Representatives from Gale will review the Gale Primary Sources platform\, including core primary source databases available through the library. We will also cover recent research enhancements that may not easily be found within the normal library discovery tool environment\, including term frequency\, term clusters\, downloadable OCR\, and other integrated workflow tools. Bring your own laptop\, or use one provided by Fogler Library.
URL:https://library.umaine.edu/event/long-18th-century-making-connections-within-gale-primary-sources/
LOCATION:Fogler Library Classroom 1\, Orono\, ME\, United States
CATEGORIES:Faculty Development,Grad Development
GEO:44.8831125;-68.6719411
END:VEVENT
BEGIN:VEVENT
DTSTART;TZID=America/New_York:20171010T100000
DTEND;TZID=America/New_York:20171010T120000
DTSTAMP:20260420T234109
CREATED:20170829T130040Z
LAST-MODIFIED:20170829T130040Z
UID:10000345-1507629600-1507636800@library.umaine.edu
SUMMARY:Grants 101: Seeking\, Analyzing\, and Writing Basics
DESCRIPTION:The Grant Development Office and Fogler Library are sponsoring “Grants 101: Seeking\, Analyzing\, and Writing Basics” throughout the academic year 2017-2018. \nAt the workshop\, you will: \n\n\n\nsearch for grants in PIVOT\nanalyze an agency’s Request for Proposals\nlearn Grant Writing Basics\n\nRSVP for a Grants 101 Workshop\nOctober 10\, 2017\, 10am-12pm\nSpace is limited. Please RSVP to Jen Bonnet using this form. \nNovember 21\, 2017\, 10am-12pm\nSpace is limited. Please RSVP to Jen Bonnet using this form. \nJanuary 18\, 2018\, 10am-12pm\nSpace is limited. Please RSVP to Jen Bonnet using this form. \nMarch 13\, 2018\, 10am-12pm\nSpace is limited. Please RSVP to Jen Bonnet using this form.
URL:https://library.umaine.edu/event/grants-101-seeking-analyzing-writing-basics/2017-10-10/
LOCATION:Fogler Library Classroom 1\, Orono\, ME\, United States
CATEGORIES:Faculty Development,Grad Development
GEO:44.8831125;-68.6719411
END:VEVENT
END:VCALENDAR