BEGIN:VCALENDAR
VERSION:2.0
PRODID:-//Raymond H. Fogler Library - ECPv6.15.17.1//NONSGML v1.0//EN
CALSCALE:GREGORIAN
METHOD:PUBLISH
X-WR-CALNAME:Raymond H. Fogler Library
X-ORIGINAL-URL:https://library.umaine.edu
X-WR-CALDESC:Events for Raymond H. Fogler Library
REFRESH-INTERVAL;VALUE=DURATION:PT1H
X-Robots-Tag:noindex
X-PUBLISHED-TTL:PT1H
BEGIN:VTIMEZONE
TZID:America/New_York
BEGIN:DAYLIGHT
TZOFFSETFROM:-0500
TZOFFSETTO:-0400
TZNAME:EDT
DTSTART:20170312T070000
END:DAYLIGHT
BEGIN:STANDARD
TZOFFSETFROM:-0400
TZOFFSETTO:-0500
TZNAME:EST
DTSTART:20171105T060000
END:STANDARD
BEGIN:DAYLIGHT
TZOFFSETFROM:-0500
TZOFFSETTO:-0400
TZNAME:EDT
DTSTART:20180311T070000
END:DAYLIGHT
BEGIN:STANDARD
TZOFFSETFROM:-0400
TZOFFSETTO:-0500
TZNAME:EST
DTSTART:20181104T060000
END:STANDARD
BEGIN:DAYLIGHT
TZOFFSETFROM:-0500
TZOFFSETTO:-0400
TZNAME:EDT
DTSTART:20190310T070000
END:DAYLIGHT
BEGIN:STANDARD
TZOFFSETFROM:-0400
TZOFFSETTO:-0500
TZNAME:EST
DTSTART:20191103T060000
END:STANDARD
END:VTIMEZONE
BEGIN:VEVENT
DTSTART;TZID=America/New_York:20180313T100000
DTEND;TZID=America/New_York:20180313T120000
DTSTAMP:20260420T025236
CREATED:20170829T130040Z
LAST-MODIFIED:20170829T130040Z
UID:10000348-1520935200-1520942400@library.umaine.edu
SUMMARY:Grants 101: Seeking\, Analyzing\, and Writing Basics
DESCRIPTION:The Grant Development Office and Fogler Library are sponsoring “Grants 101: Seeking\, Analyzing\, and Writing Basics” throughout the academic year 2017-2018. \nAt the workshop\, you will: \n\n\n\nsearch for grants in PIVOT\nanalyze an agency’s Request for Proposals\nlearn Grant Writing Basics\n\nRSVP for a Grants 101 Workshop\nOctober 10\, 2017\, 10am-12pm\nSpace is limited. Please RSVP to Jen Bonnet using this form. \nNovember 21\, 2017\, 10am-12pm\nSpace is limited. Please RSVP to Jen Bonnet using this form. \nJanuary 18\, 2018\, 10am-12pm\nSpace is limited. Please RSVP to Jen Bonnet using this form. \nMarch 13\, 2018\, 10am-12pm\nSpace is limited. Please RSVP to Jen Bonnet using this form.
URL:https://library.umaine.edu/event/grants-101-seeking-analyzing-writing-basics/2018-03-13/
LOCATION:Fogler Library Classroom 1\, Orono\, ME\, United States
CATEGORIES:Faculty Development,Grad Development
GEO:44.8831125;-68.6719411
END:VEVENT
BEGIN:VEVENT
DTSTART;TZID=America/New_York:20180329T180000
DTEND;TZID=America/New_York:20180329T193000
DTSTAMP:20260420T025236
CREATED:20180305T184906Z
LAST-MODIFIED:20180305T184906Z
UID:10000367-1522346400-1522351800@library.umaine.edu
SUMMARY:Storytelling and Community-driven Sustainability Research
DESCRIPTION:Join the Spire editors for a conversation about the power of storytelling and how to galvanize environmental action through open-access publication. Editors will describe emerging areas for research\, art\, and creative writing and discuss the opportunities to get involved with Spire. \nSpire\, The Maine Journal of Conservation and Sustainability is a student-led interdisciplinary journal\, housed at the University of Maine.
URL:https://library.umaine.edu/event/storytelling-community-driven-sustainability-research/
LOCATION:Fogler Library Classroom 1\, Orono\, ME\, United States
CATEGORIES:Faculty Development,Grad Development
GEO:44.8831125;-68.6719411
END:VEVENT
END:VCALENDAR