BEGIN:VCALENDAR
VERSION:2.0
PRODID:-//Raymond H. Fogler Library - ECPv6.15.17.1//NONSGML v1.0//EN
CALSCALE:GREGORIAN
METHOD:PUBLISH
X-WR-CALNAME:Raymond H. Fogler Library
X-ORIGINAL-URL:https://library.umaine.edu
X-WR-CALDESC:Events for Raymond H. Fogler Library
REFRESH-INTERVAL;VALUE=DURATION:PT1H
X-Robots-Tag:noindex
X-PUBLISHED-TTL:PT1H
BEGIN:VTIMEZONE
TZID:America/New_York
BEGIN:DAYLIGHT
TZOFFSETFROM:-0500
TZOFFSETTO:-0400
TZNAME:EDT
DTSTART:20170312T070000
END:DAYLIGHT
BEGIN:STANDARD
TZOFFSETFROM:-0400
TZOFFSETTO:-0500
TZNAME:EST
DTSTART:20171105T060000
END:STANDARD
BEGIN:DAYLIGHT
TZOFFSETFROM:-0500
TZOFFSETTO:-0400
TZNAME:EDT
DTSTART:20180311T070000
END:DAYLIGHT
BEGIN:STANDARD
TZOFFSETFROM:-0400
TZOFFSETTO:-0500
TZNAME:EST
DTSTART:20181104T060000
END:STANDARD
BEGIN:DAYLIGHT
TZOFFSETFROM:-0500
TZOFFSETTO:-0400
TZNAME:EDT
DTSTART:20190310T070000
END:DAYLIGHT
BEGIN:STANDARD
TZOFFSETFROM:-0400
TZOFFSETTO:-0500
TZNAME:EST
DTSTART:20191103T060000
END:STANDARD
END:VTIMEZONE
BEGIN:VEVENT
DTSTART;TZID=America/New_York:20181002T180000
DTEND;TZID=America/New_York:20181002T193000
DTSTAMP:20260420T171721
CREATED:20180924T123614Z
LAST-MODIFIED:20180924T123614Z
UID:10000376-1538503200-1538508600@library.umaine.edu
SUMMARY:International Travel Panel
DESCRIPTION:Will going abroad open a new chapter in your life? A conversation with Student Explorers and Study Abroad Advisors \nListen to your fellow students share how international experience enriched their personal\, academic\, and career pursuits. UMaine study abroad advisors will discuss where the meaning of study abroad comes from\, and the Major Scholarships Coordinator will share scholarship opportunities for studying abroad. \nJoin us for an inspiring conversation! \nDelivered by Fogler Library in collaboration with the Office of International Programs and the Office of Major Scholarships. This event will help you earn your Engaged Black Bear Level 1\nInformation Literacy Badge. Find out more on the EBB website.
URL:https://library.umaine.edu/event/international-travel-panel/
LOCATION:Fogler Library Classroom 1\, Orono\, ME\, United States
CATEGORIES:Grad Development
GEO:44.8831125;-68.6719411
END:VEVENT
BEGIN:VEVENT
DTSTART;TZID=America/New_York:20181009T100000
DTEND;TZID=America/New_York:20181009T120000
DTSTAMP:20260420T171721
CREATED:20180802T180825Z
LAST-MODIFIED:20180802T180825Z
UID:10000573-1539079200-1539086400@library.umaine.edu
SUMMARY:Grants 101: Seeking\, Analyzing\, and Writing Basics
DESCRIPTION:The Office of Research Development and Fogler Library are sponsoring “Grants 101: Seeking\, Analyzing\, and Writing Basics” throughout 2018-2019. \nAt the workshop\, participants will: \n\nsearch for grants in PIVOT\nanalyze an agency’s Request for Proposals\nlearn grant writing basics\n\nUpcoming workshop dates: \n\nTuesday\, October 9th\, 2018\, 10am-12pm. RSVP here; space is limited.\nFriday\, November 16\, 2018\, 9am-11am RSVP here; space is limited.\nThursday\, January 17\, 2019\, 10am-12pm RSVP here; space is limited.\nTuesday\, March 19\,  2019\, 10am-12pm RSVP here; space is limited.
URL:https://library.umaine.edu/event/grants-101-seeking-analyzing-writing-basics-2/2018-10-09/
LOCATION:Fogler Library Classroom 1\, Orono\, ME\, United States
CATEGORIES:Faculty Development,Grad Development
GEO:44.8831125;-68.6719411
END:VEVENT
BEGIN:VEVENT
DTSTART;TZID=America/New_York:20181016T083000
DTEND;TZID=America/New_York:20181016T180000
DTSTAMP:20260420T171721
CREATED:20180904T145649Z
LAST-MODIFIED:20180904T145649Z
UID:10000581-1539678600-1539712800@library.umaine.edu
SUMMARY:Patent and Trademark Resource Center Conference
DESCRIPTION:The Patent and Trademark Resource Center (PTRC) at the University of Maine in Orono is celebrating its 25th Anniversary. As part of the celebration\, we invite you to join us for a one-day conference featuring a range of informational sessions about patents and trademarks geared toward inventors\, entrepreneurs\, educators\, students and legal professionals. \nTopics covered will include:  \n\nAn overview of Intellectual Property\nHow to conduct a patent search; How to conduct a trademark search\nHow to avoid invention scams.\nA local resource panel of business and innovation experts. \n\nAdditional speakers and sessions to be determined.  \nThe full agenda is available online. \nRegistration is required\, and space is limited so please register early! \n  \nRegister for the Conference
URL:https://library.umaine.edu/event/patent-and-trademark-resource-center-conference/
LOCATION:Fogler Library\, 5729 Fogler Library\, University of Maine\, Orono\, ME\, 04469\, United States
CATEGORIES:Faculty Development,Grad Development
GEO:44.8994752;-68.6692147
X-APPLE-STRUCTURED-LOCATION;VALUE=URI;X-ADDRESS=Fogler Library 5729 Fogler Library University of Maine Orono ME 04469 United States;X-APPLE-RADIUS=500;X-TITLE=5729 Fogler Library\, University of Maine:geo:-68.6692147,44.8994752
END:VEVENT
BEGIN:VEVENT
DTSTART;TZID=America/New_York:20181018T180000
DTEND;TZID=America/New_York:20181018T200000
DTSTAMP:20260420T171721
CREATED:20180928T195302Z
LAST-MODIFIED:20180928T195302Z
UID:10000377-1539885600-1539892800@library.umaine.edu
SUMMARY:Python for Beginners Workshop
DESCRIPTION:Python is one of the most versatile\, powerful\, and popular programming languages in the world. Thousands of businesses — including Google\, YouTube\, and Dropbox — have used Python in real-world applications. From web development to data visualization\, learning Python will give you an in-demand skill that you can put to immediate use. \nThis workshop is designed as an introduction to programming in Python. Even if you have no experience in coding\, you can use this workshop as an introduction to the vast possibilities of programming in a popular\, useful language. \nIf you would prefer to attend online instead\, please contact acg@maine.edu. \nFind notes from the workshop\, tutorials\, and useful links here: http://aturing.umcs.maine.edu/~meadow/courses/pynotes/ \nAbout the Presenter\nCurtis Meadow is a professional software developer with over 30 years of experience. He has an MS in Computer Science from the University of Maine and has taught computer science since 1991. Curtis specializes in the design and development of databases and information management systems in a wide range of domains. His teaching experience includes courses in programming languages\, assembly language\, and computer architecture.
URL:https://library.umaine.edu/event/python-for-beginners/
LOCATION:Fogler Library Classroom 1\, Orono\, ME\, United States
CATEGORIES:Faculty Development,Grad Development
GEO:44.8831125;-68.6719411
END:VEVENT
BEGIN:VEVENT
DTSTART;TZID=America/New_York:20181025T180000
DTEND;TZID=America/New_York:20181025T193000
DTSTAMP:20260420T171721
CREATED:20181010T123733Z
LAST-MODIFIED:20181010T123733Z
UID:10000383-1540490400-1540495800@library.umaine.edu
SUMMARY:A Conversation with Student Inventors & Entrepreneurs
DESCRIPTION:Learn from students who are pursuing their idea and making it a reality. \nJoin us for a conversation with student inventors and entrepreneurs. Listen to your fellow students share their experiences going from idea to business—from inspiration to reality. Students will talk about balancing school and business pursuits along with their process from taking their idea from the beginning stage to their customer. \nJoin us for this inspiring conversation! \nThis event will help you earn your Engaged Black Bear Level 1 Information Literacy Badge.
URL:https://library.umaine.edu/event/a-conversation-with-student-inventors-entrepreneurs/
LOCATION:Fogler Library Classroom 1\, Orono\, ME\, United States
CATEGORIES:Grad Development
GEO:44.8831125;-68.6719411
END:VEVENT
BEGIN:VEVENT
DTSTART;TZID=America/New_York:20181030T180000
DTEND;TZID=America/New_York:20181030T200000
DTSTAMP:20260420T171721
CREATED:20181010T122839Z
LAST-MODIFIED:20181010T122839Z
UID:10000382-1540922400-1540929600@library.umaine.edu
SUMMARY:Citation Management Workshop
DESCRIPTION:Large research projects\, especially theses and dissertations\, involve extensive use of a variety of publications. It’s difficult to locate and organize these materials and their citations\, and to represent these references in the required format. Citation managers can be a big help on this side of the research process. \nThis workshop is intended to provide an overview of citation management software. We’ll use examples from multiple managers to demonstrate the capabilities and usefulness of these tools. As well\, we will discuss some of the considerations in choosing a citation manager. \nIf you’re about to embark upon a significant project\, or you’ve begun a project and are feeling a bit overwhelmed by its complexity\, this workshop may be a big help. \nTo attend\, please RSVP online. The workshop will be held in the Fogler Library Classroom 1.
URL:https://library.umaine.edu/event/citation-management-workshop/
LOCATION:Fogler Library Classroom 1\, Orono\, ME\, United States
CATEGORIES:Faculty Development,Grad Development
GEO:44.8831125;-68.6719411
END:VEVENT
END:VCALENDAR