BEGIN:VCALENDAR
VERSION:2.0
PRODID:-//Raymond H. Fogler Library - ECPv6.15.17.1//NONSGML v1.0//EN
CALSCALE:GREGORIAN
METHOD:PUBLISH
X-WR-CALNAME:Raymond H. Fogler Library
X-ORIGINAL-URL:https://library.umaine.edu
X-WR-CALDESC:Events for Raymond H. Fogler Library
REFRESH-INTERVAL;VALUE=DURATION:PT1H
X-Robots-Tag:noindex
X-PUBLISHED-TTL:PT1H
BEGIN:VTIMEZONE
TZID:America/New_York
BEGIN:DAYLIGHT
TZOFFSETFROM:-0500
TZOFFSETTO:-0400
TZNAME:EDT
DTSTART:20170312T070000
END:DAYLIGHT
BEGIN:STANDARD
TZOFFSETFROM:-0400
TZOFFSETTO:-0500
TZNAME:EST
DTSTART:20171105T060000
END:STANDARD
BEGIN:DAYLIGHT
TZOFFSETFROM:-0500
TZOFFSETTO:-0400
TZNAME:EDT
DTSTART:20180311T070000
END:DAYLIGHT
BEGIN:STANDARD
TZOFFSETFROM:-0400
TZOFFSETTO:-0500
TZNAME:EST
DTSTART:20181104T060000
END:STANDARD
BEGIN:DAYLIGHT
TZOFFSETFROM:-0500
TZOFFSETTO:-0400
TZNAME:EDT
DTSTART:20190310T070000
END:DAYLIGHT
BEGIN:STANDARD
TZOFFSETFROM:-0400
TZOFFSETTO:-0500
TZNAME:EST
DTSTART:20191103T060000
END:STANDARD
END:VTIMEZONE
BEGIN:VEVENT
DTSTART;TZID=America/New_York:20181115T160000
DTEND;TZID=America/New_York:20181115T170000
DTSTAMP:20260420T081225
CREATED:20181005T180814Z
LAST-MODIFIED:20181005T180814Z
UID:10000378-1542297600-1542301200@library.umaine.edu
SUMMARY:Graduate Student Workshop: Research Tips & Tricks
DESCRIPTION:Presented by the University of Maine Graduate Student Government and Fogler Library\, this workshop is designed to help graduate students learn how to: \n\nGet materials delivered to your campus office\nStrategically search for literature\nManage citations for literature reviews\nFind publication venues for your research\n\nSpace is limited. Register online today.
URL:https://library.umaine.edu/event/graduate-student-workshop-research-tips-tricks/
LOCATION:Fogler Library Classroom 1\, Orono\, ME\, United States
CATEGORIES:Grad Development
GEO:44.8831125;-68.6719411
END:VEVENT
BEGIN:VEVENT
DTSTART;TZID=America/New_York:20181116T090000
DTEND;TZID=America/New_York:20181116T110000
DTSTAMP:20260420T081225
CREATED:20180802T180825Z
LAST-MODIFIED:20180802T180825Z
UID:10000574-1542358800-1542366000@library.umaine.edu
SUMMARY:Grants 101: Seeking\, Analyzing\, and Writing Basics
DESCRIPTION:The Office of Research Development and Fogler Library are sponsoring “Grants 101: Seeking\, Analyzing\, and Writing Basics” throughout 2018-2019. \nAt the workshop\, participants will: \n\nsearch for grants in PIVOT\nanalyze an agency’s Request for Proposals\nlearn grant writing basics\n\nUpcoming workshop dates: \n\nTuesday\, October 9th\, 2018\, 10am-12pm. RSVP here; space is limited.\nFriday\, November 16\, 2018\, 9am-11am RSVP here; space is limited.\nThursday\, January 17\, 2019\, 10am-12pm RSVP here; space is limited.\nTuesday\, March 19\,  2019\, 10am-12pm RSVP here; space is limited.
URL:https://library.umaine.edu/event/grants-101-seeking-analyzing-writing-basics-2/2018-11-16/
LOCATION:Fogler Library Classroom 1\, Orono\, ME\, United States
CATEGORIES:Faculty Development,Grad Development
GEO:44.8831125;-68.6719411
END:VEVENT
BEGIN:VEVENT
DTSTART;TZID=America/New_York:20181129T180000
DTEND;TZID=America/New_York:20181129T200000
DTSTAMP:20260420T081225
CREATED:20181107T145915Z
LAST-MODIFIED:20181107T145915Z
UID:10000384-1543514400-1543521600@library.umaine.edu
SUMMARY:Data Visualization with R and Python
DESCRIPTION:This hands-on session will cover basic plotting capacities of R and Python including bar chart\, histogram plot\, box and whisker plot\, scatter plot and much more. This workshop is presented in collaboration with UMaine’s Advanced Computing Group. We recommend bringing fully charged laptops\, with R and RStudio already installed. Laptops will be available for attendees who need to borrow one. If you would prefer to attend via Adobe Connect instead\, email acg@maine.edu. \nAbout the Presenter \nDr. Bruce A. Maxwell started exploring computer science as an undergraduate at Swarthmore College. He went on to obtain an M.Phil. in Speech Recognition at Cambridge University and a Ph.D. in Robotics at Carnegie Mellon University. He taught for two years at the University of North Dakota and nine years at Swarthmore College before going to Colby College in the fall of 2007. His interests include robotics\, computer vision\, computer graphics\, scientific data analysis and visualization.
URL:https://library.umaine.edu/event/data-visualization-with-r-and-python/
LOCATION:Fogler Library Classroom 1\, Orono\, ME\, United States
CATEGORIES:Faculty Development,Grad Development
GEO:44.8831125;-68.6719411
END:VEVENT
END:VCALENDAR