BEGIN:VCALENDAR
VERSION:2.0
PRODID:-//Raymond H. Fogler Library - ECPv6.15.17.1//NONSGML v1.0//EN
CALSCALE:GREGORIAN
METHOD:PUBLISH
X-WR-CALNAME:Raymond H. Fogler Library
X-ORIGINAL-URL:https://library.umaine.edu
X-WR-CALDESC:Events for Raymond H. Fogler Library
REFRESH-INTERVAL;VALUE=DURATION:PT1H
X-Robots-Tag:noindex
X-PUBLISHED-TTL:PT1H
BEGIN:VTIMEZONE
TZID:America/New_York
BEGIN:DAYLIGHT
TZOFFSETFROM:-0500
TZOFFSETTO:-0400
TZNAME:EDT
DTSTART:20250309T070000
END:DAYLIGHT
BEGIN:STANDARD
TZOFFSETFROM:-0400
TZOFFSETTO:-0500
TZNAME:EST
DTSTART:20251102T060000
END:STANDARD
BEGIN:DAYLIGHT
TZOFFSETFROM:-0500
TZOFFSETTO:-0400
TZNAME:EDT
DTSTART:20260308T070000
END:DAYLIGHT
BEGIN:STANDARD
TZOFFSETFROM:-0400
TZOFFSETTO:-0500
TZNAME:EST
DTSTART:20261101T060000
END:STANDARD
BEGIN:DAYLIGHT
TZOFFSETFROM:-0500
TZOFFSETTO:-0400
TZNAME:EDT
DTSTART:20270314T070000
END:DAYLIGHT
BEGIN:STANDARD
TZOFFSETFROM:-0400
TZOFFSETTO:-0500
TZNAME:EST
DTSTART:20271107T060000
END:STANDARD
END:VTIMEZONE
BEGIN:VEVENT
DTSTART;TZID=America/New_York:20260430T150000
DTEND;TZID=America/New_York:20260430T160000
DTSTAMP:20260422T171614
CREATED:20260422T115644Z
LAST-MODIFIED:20260422T115644Z
UID:10001101-1777561200-1777564800@library.umaine.edu
SUMMARY:Presentation: Fogler landscaping proposal
DESCRIPTION:On Thursday\, April 30 at 3 p.m.\, Environmental Horticulture student Benjamin Flannery will be giving a presentation on his Fogler landscape proposal for the north patio area\, which he selected as his service learning capstone project and has been developing over the past few months. Flannery’s project aligns with UMaine Libraries’ Sustainable Libraries initiative certification\, which asks us to support native landscapes\, as well as qualifying UMaine to become a Bee Campus USA campus. \nAll are invited to attend this event\, which will be held in the Salon at Fogler Library\, and will also be available on Zoom. Light refreshments will be served.
URL:https://library.umaine.edu/event/presentation-fogler-landscaping-proposal/
LOCATION:The Salon\, Fogler Library\, or Zoom
CATEGORIES:Presentation
ATTACH;FMTTYPE=image/jpeg:https://library.umaine.edu/wp-content/uploads/sites/673/2026/04/Benjamin-Flannery-Capstone-Project-Presentation-Flyer.jpg
END:VEVENT
BEGIN:VEVENT
DTSTART;TZID=America/New_York:20260513T110000
DTEND;TZID=America/New_York:20260513T120000
DTSTAMP:20260422T171615
CREATED:20260407T160447Z
LAST-MODIFIED:20260407T160447Z
UID:10001100-1778670000-1778673600@library.umaine.edu
SUMMARY:Advanced Scopus Research Tools Workshop
DESCRIPTION:Take a deeper dive into Scopus and learn about its more advanced features. We will look at author and affiliation profiles\, journal and article metrics\, and much more. \nTo register and get Zoom link\, click here.
URL:https://library.umaine.edu/event/advanced-scopus-research-tools-workshop/
LOCATION:Online
ATTACH;FMTTYPE=image/png:https://library.umaine.edu/wp-content/uploads/sites/673/2026/04/ADV-Scopus-calendars.png
END:VEVENT
END:VCALENDAR